BEGIN:VCALENDAR
VERSION:2.0
PRODID:-//TYPO3/NONSGML Calendarize//EN
BEGIN:VEVENT
UID:calendarize-26-04-16
DTSTAMP:20260423T120551Z
DTSTART:20260416T170000Z
DTEND:20260416T183000Z
SUMMARY:Digitaler Familientalk
DESCRIPTION:Der Digitale Familientalk thematisiert\, wie Schönheitsideale
  im Netz entstehen\, welche Auswirkungen sie auf Kinder und Jugendliche ha
 ben können und wie ein gesunder Umgang mit Social Media unterstützt werd
 en kann. Dabei geht es um Stärkung des Selbstbewusstseins\, achtsame Begl
 eitung und die Vermittlung gesunder Werte im digitalen Raum.\nInformieren 
 und anmelden
X-ALT-DESC;FMTTYPE=text/html:<p>Der Digitale Familientalk thematisiert\, w
 ie Schönheitsideale im Netz entstehen\, welche Auswirkungen sie auf Kinde
 r und Jugendliche haben können und wie ein gesunder Umgang mit Social Med
 ia unterstützt werden kann. Dabei geht es um Stärkung des Selbstbewussts
 eins\, achtsame Begleitung und die Vermittlung gesunder Werte im digitalen
  Raum.</p>\n<p><a href="t3://page?uid=815" target="_blank" title="Informat
 ionen zur Veranstaltung und Anmeldung">Informieren und anmelden</a></p>
LOCATION:Online (t3://page?uid=815 _blank - "Informationen zur Veranstaltu
 ng und Anmeldung")
END:VEVENT
END:VCALENDAR
