BEGIN:VCALENDAR
VERSION:2.0
PRODID:-//TYPO3/NONSGML Calendarize//EN
BEGIN:VEVENT
UID:calendarize-26-04-21
DTSTAMP:20260423T120208Z
DTSTART:20260421T170000Z
DTEND:20260421T183000Z
SUMMARY:Digitaler Familientalk – Internet-ABC-Special
DESCRIPTION:In diesem Digitalen Familientalk erfahren Sie\, welche sichere
 n und empfehlenswerten Kinderangebote es gibt\, zum Beispiel Internet-ABC\
 , fragFINN oder Seitenstark. Wir informieren Sie zudem über altersgerecht
 e Nutzung\, effektive Kinderschutzfilter und geben praxisnahe Tipps\, wie 
 Sie Ihre Kinder bei den ersten Schritten im Internet optimal unterstützen
  können. Der Abend bietet wertvolle Impulse für einen sicheren und bewus
 sten Einstieg Ihrer Kinder in die digitale Welt.\nInformieren und anmelden
X-ALT-DESC;FMTTYPE=text/html:<p>In diesem Digitalen Familientalk erfahren 
 Sie\, welche sicheren und empfehlenswerten Kinderangebote es gibt\, zum Be
 ispiel Internet-ABC\, fragFINN oder Seitenstark. Wir informieren Sie zudem
  über altersgerechte Nutzung\, effektive Kinderschutzfilter und geben pra
 xisnahe Tipps\, wie Sie Ihre Kinder bei den ersten Schritten im Internet o
 ptimal unterstützen können. Der Abend bietet wertvolle Impulse für eine
 n sicheren und bewussten Einstieg Ihrer Kinder in die digitale Welt.</p>\n
 <p><a href="t3://page?uid=816" target="_blank" title="Informationen zur Ve
 ranstaltung und Anmeldung">Informieren und anmelden</a></p>
LOCATION:Online (t3://page?uid=806 _blank - "Informationen zur Veranstaltu
 ng und Anmeldung")
END:VEVENT
END:VCALENDAR
