BEGIN:VCALENDAR
VERSION:2.0
PRODID:-//TYPO3/NONSGML Calendarize//EN
BEGIN:VEVENT
UID:calendarize-default-adfb432037a05075f7c0a7db4be95944
DTSTAMP:20260423T121017Z
DTSTART:20260425T080000Z
DTEND:20260425T133000Z
SUMMARY:Hessischer Jungjournalistentag 2026
DESCRIPTION:Der Hessische Jungjournalistentag #JJT 26 findet am 25. April 
 2026 in der Media University in Frankfurt statt. Die Teilnahme ist kostenf
 rei. Junge Medieninteressierte\, Oberstufenschülerinnen und -schüler\, S
 tudierende sowie Volos aus Hessen und Umgebung können sich ab sofort anme
 lden:\nhttps://www.djv-hessen.de/jungjournalistentag-jjt/
X-ALT-DESC;FMTTYPE=text/html:<p>Der Hessische Jungjournalistentag #JJT 26 
 findet am 25. April 2026 in der Media University in Frankfurt statt. Die T
 eilnahme ist kostenfrei. Junge Medieninteressierte\, Oberstufenschülerinn
 en und -schüler\, Studierende sowie Volos aus Hessen und Umgebung können
  sich ab sofort anmelden:</p>\n<p><a href="https://www.djv-hessen.de/jungj
 ournalistentag-jjt/" target="_blank" title="Öffnet externe Seite in neuem
  Fenster">https://www.djv-hessen.de/jungjournalistentag-jjt/</a></p>
LOCATION:Media University Frankfurt am Main (https://www.media-university.
 de/hochschule/standorte/campus-frankfurt _blank)
END:VEVENT
END:VCALENDAR
